BEGIN:VCALENDAR
VERSION:2.0
PRODID:-//The Ranch at La Cresta - ECPv6.15.20//NONSGML v1.0//EN
CALSCALE:GREGORIAN
METHOD:PUBLISH
X-ORIGINAL-URL:https://theranchatlacresta.com
X-WR-CALDESC:Events for The Ranch at La Cresta
REFRESH-INTERVAL;VALUE=DURATION:PT1H
X-Robots-Tag:noindex
X-PUBLISHED-TTL:PT1H
BEGIN:VTIMEZONE
TZID:UTC
BEGIN:STANDARD
TZOFFSETFROM:+0000
TZOFFSETTO:+0000
TZNAME:UTC
DTSTART:20240101T000000
END:STANDARD
END:VTIMEZONE
BEGIN:VTIMEZONE
TZID:America/Los_Angeles
BEGIN:DAYLIGHT
TZOFFSETFROM:-0800
TZOFFSETTO:-0700
TZNAME:PDT
DTSTART:20240310T100000
END:DAYLIGHT
BEGIN:STANDARD
TZOFFSETFROM:-0700
TZOFFSETTO:-0800
TZNAME:PST
DTSTART:20241103T090000
END:STANDARD
BEGIN:DAYLIGHT
TZOFFSETFROM:-0800
TZOFFSETTO:-0700
TZNAME:PDT
DTSTART:20250309T100000
END:DAYLIGHT
BEGIN:STANDARD
TZOFFSETFROM:-0700
TZOFFSETTO:-0800
TZNAME:PST
DTSTART:20251102T090000
END:STANDARD
BEGIN:DAYLIGHT
TZOFFSETFROM:-0800
TZOFFSETTO:-0700
TZNAME:PDT
DTSTART:20260308T100000
END:DAYLIGHT
BEGIN:STANDARD
TZOFFSETFROM:-0700
TZOFFSETTO:-0800
TZNAME:PST
DTSTART:20261101T090000
END:STANDARD
END:VTIMEZONE
BEGIN:VEVENT
DTSTART;TZID=UTC:20250607T160000
DTEND;TZID=UTC:20250607T190000
DTSTAMP:20260424T190459
CREATED:20250330T124953Z
LAST-MODIFIED:20250514T183922Z
UID:1924-1749312000-1749322800@theranchatlacresta.com
SUMMARY:Plein Air Painting
DESCRIPTION:Join us for an inspiring plein air experience at our beautiful ranch! Spend the day surrounded by natures stunning landscapes while learning how to capture the beauty of the outdoors on canvas. Whether you’re a beginner or an experienced artist\, this class offers a relaxed and inspiring environment to unleash your creativity. Let the peaceful reach setting infuse your masterpiece!
URL:https://theranchatlacresta.com/event/plein-air-painting/
LOCATION:The Ranch
CATEGORIES:Classes
ATTACH;FMTTYPE=image/png:https://theranchatlacresta.com/wp-content/uploads/2025/03/IMG-9712.png
ORGANIZER;CN="Christalyn Brooks":MAILTO:themadstudio@gmail.com
END:VEVENT
BEGIN:VEVENT
DTSTART;TZID=America/Los_Angeles:20250505T173000
DTEND;TZID=America/Los_Angeles:20250505T200000
DTSTAMP:20260424T190459
CREATED:20250314T052553Z
LAST-MODIFIED:20250314T054501Z
UID:1720-1746466200-1746475200@theranchatlacresta.com
SUMMARY:Homemade Sourdough Artisan Bread Making Class
DESCRIPTION:Sourdough Made Easy in just 4 Simple Steps! Enjoy a night out as you savor the aroma and flavor of a comforting and rewarding experience. This warm\, fresh smell of sourdough in the air will peak your appetite and leave you satisfied as you indulge in the wonder of the art of cooking. Whether you’re an avid sourdough maker or wanting to learn\, all will benefit from this class <3
URL:https://theranchatlacresta.com/event/homemade-sourdough-artisan-bread-making-class/
LOCATION:The Ranch
CATEGORIES:Classes,Cooking
ATTACH;FMTTYPE=image/png:https://theranchatlacresta.com/wp-content/uploads/2025/03/IMG-9206.png
ORGANIZER;CN="Pamela Billen":MAILTO:pamelabillen1@gmail.com
END:VEVENT
BEGIN:VEVENT
DTSTART;TZID=UTC:20250405T100000
DTEND;TZID=UTC:20250405T170000
DTSTAMP:20260424T190459
CREATED:20250325T165226Z
LAST-MODIFIED:20250325T165226Z
UID:1879-1743847200-1743872400@theranchatlacresta.com
SUMMARY:Yoga with "The Vibe Collective"
DESCRIPTION:
URL:https://theranchatlacresta.com/event/yoga-with-the-vibe-collective/
LOCATION:The Ranch
CATEGORIES:Classes,Yoga
ATTACH;FMTTYPE=image/jpeg:https://theranchatlacresta.com/wp-content/uploads/2025/03/IMG_8827.jpeg
ORGANIZER;CN="Diane V Capaldi":MAILTO:wellnessandv@gmail.com
END:VEVENT
BEGIN:VEVENT
DTSTART;TZID=UTC:20250201T090000
DTEND;TZID=UTC:20250201T100000
DTSTAMP:20260424T190459
CREATED:20250120T014319Z
LAST-MODIFIED:20250120T210542Z
UID:1316-1738400400-1738404000@theranchatlacresta.com
SUMMARY:Mindful Movement with Corynne
DESCRIPTION:Join Corynne Smith\, creator of Affirmations of Wellness\, for a monthly yoga class at The Ranch at La Cresta. Embrace mindfulness\, wellness\, and balance.
URL:https://theranchatlacresta.com/event/mindful-movement-with-corynne/
CATEGORIES:Classes,Yoga
ATTACH;FMTTYPE=image/png:https://theranchatlacresta.com/wp-content/uploads/2024/12/La-Cresta-2.png
ORGANIZER;CN="Christalyn Brooks":MAILTO:themadstudio@gmail.com
END:VEVENT
END:VCALENDAR