BEGIN:VCALENDAR
VERSION:2.0
PRODID:-//The Ranch at La Cresta - ECPv6.15.20//NONSGML v1.0//EN
CALSCALE:GREGORIAN
METHOD:PUBLISH
X-WR-CALNAME:The Ranch at La Cresta
X-ORIGINAL-URL:https://theranchatlacresta.com
X-WR-CALDESC:Events for The Ranch at La Cresta
REFRESH-INTERVAL;VALUE=DURATION:PT1H
X-Robots-Tag:noindex
X-PUBLISHED-TTL:PT1H
BEGIN:VTIMEZONE
TZID:America/Los_Angeles
BEGIN:DAYLIGHT
TZOFFSETFROM:-0800
TZOFFSETTO:-0700
TZNAME:PDT
DTSTART:20240310T100000
END:DAYLIGHT
BEGIN:STANDARD
TZOFFSETFROM:-0700
TZOFFSETTO:-0800
TZNAME:PST
DTSTART:20241103T090000
END:STANDARD
BEGIN:DAYLIGHT
TZOFFSETFROM:-0800
TZOFFSETTO:-0700
TZNAME:PDT
DTSTART:20250309T100000
END:DAYLIGHT
BEGIN:STANDARD
TZOFFSETFROM:-0700
TZOFFSETTO:-0800
TZNAME:PST
DTSTART:20251102T090000
END:STANDARD
BEGIN:DAYLIGHT
TZOFFSETFROM:-0800
TZOFFSETTO:-0700
TZNAME:PDT
DTSTART:20260308T100000
END:DAYLIGHT
BEGIN:STANDARD
TZOFFSETFROM:-0700
TZOFFSETTO:-0800
TZNAME:PST
DTSTART:20261101T090000
END:STANDARD
END:VTIMEZONE
BEGIN:VEVENT
DTSTART;TZID=America/Los_Angeles:20250417T163000
DTEND;TZID=America/Los_Angeles:20250417T190000
DTSTAMP:20260424T215834
CREATED:20250314T060903Z
LAST-MODIFIED:20250314T061436Z
UID:1732-1744907400-1744916400@theranchatlacresta.com
SUMMARY:Mock Shoot Event
DESCRIPTION:RESCHEDULED due to rain! New date is April 17 \nJoin us for a mock shoot event to add to your portfolio and enjoy touring new grounds with hidden gems to capture! The Ranch site fee is free. Contact coordinator and Murrieta Photography Group Founder\, Ryan Miller to pay the $20 participation fee.
URL:https://theranchatlacresta.com/event/mock-shoot-event/
LOCATION:The Ranch
CATEGORIES:Educational Event,Photography Event
ATTACH;FMTTYPE=image/png:https://theranchatlacresta.com/wp-content/uploads/2025/03/events-2-1.png
ORGANIZER;CN="Ryan Miller":MAILTO:ryanscottmiller@gmail.com
END:VEVENT
END:VCALENDAR